BEGIN:VCALENDAR
VERSION:2.0
METHOD:PUBLISH
PRODID:-//imacoda.com//SPD-Web-O-Mat//EN
CALSCALE:GREGORIAN
BEGIN:VTIMEZONE
TZID:Europe/Berlin
BEGIN:DAYLIGHT
TZOFFSETFROM:+0100
RRULE:FREQ=YEARLY;BYMONTH=3;BYDAY=-1SU
DTSTART:19810329T020000
TZNAME:MESZ
TZOFFSETTO:+0200
END:DAYLIGHT
BEGIN:STANDARD
TZOFFSETFROM:+0200
RRULE:FREQ=YEARLY;BYMONTH=10;BYDAY=-1SU
DTSTART:19961027T030000
TZNAME:MEZ
TZOFFSETTO:+0100
END:STANDARD
END:VTIMEZONE
BEGIN:VEVENT
UID:20260419T125939Z-00001187238-LULU@www.bayernspd.de
CREATED:20260419T125939Z
LAST-MODIFIED:20260419T130434Z
DTSTAMP:20260419T130434Z
TRANSP:TRANSPARENT
DTSTART;TZID=Europe/Berlin:20260520T190000
DTEND;TZID=Europe/Berlin:20260520T190000
SUMMARY:Pubquiz "Quizzen in bester Verfassung"
LOCATION:TaRa\, Schillerstraße 33\, Dachau
DESCRIPTION:Termin im Web (SPD Dachau):\nhttps://spd-dachau.de/termine/?
 id=1187238
END:VEVENT
END:VCALENDAR
